Workbook
Name soma: #REF!
Name soma: #REF!

Sheet FOR.CTR.004_REV02
C1: DATA: | D1: =TODAY() -> 45974 | E1: COMPETÊNCIA: | F1: =PROPER(TEXT(D1,"MMMM")) -> Novembro
A8: FORMULÁRIO DE MEDIÇÃO PARA CONTRATOS DE SERVIÇOS PROFISSIONAIS
A9: OBRA: | C9: CNPJ:
A10: Nº CT: | C10: RAZÃO SOCIAL:
A11: OBS:
A13: ITEM | B13: ESPECIFICAÇÃO | C13: VALORES CONTRATUAIS | E13: Preencha apenas os campos em azul
C14: COMPETÊNCIA | D14: VALOR UNITÁRIO
A15: 01 | B15: PRESTAÇÃO DE SERVIÇOS
A16: 02
A17: 03
A18: VALOR TOTAL BRUTO DA MEDIÇÃO ( A ) | D18: =SUM(D15,(D16*Planilha2!E7),(D17*Planilha2!E8)) -> 0
A20: ITEM | B20: ESPECIFICAÇÃO | C20: VALORES ADICIONAIS
C21: COMPETÊNCIA | D21: QTD DIAS/HORAS | E21: VALOR UNITÁRIO | F21: VALOR TOTAL
A22: 01 | B22: RESTITUIÇÃO ALIMENTAÇÃO | E22: 31.65 | F22: =E22*D22 -> 0
A23: 02 | B23: RESTITUIÇÃO TRANSPORTE / COMBUSTÍVEL | F23: =E23*D23 -> 0
A24: 03 | B24: ANTECIPAÇÃO ALIMENTAÇÃO | E24: 31.65 | F24: =E24*D24 -> 0
A25: 04 | B25: ANTECIPAÇÃO TRANSPORTE / COMBUSTÍVEL | F25: =E25*D25 -> 0
A26: 05 | B26: HORAS ALÉM DO LIMITE CONTRATUAL | F26: =E26*D26 -> 0
A27: 06 | F27: =E27*D27 -> 0
A28: VALOR TOTAL ADICIONAL( B ) | F28: =SUM(F22:F27) -> 0
A31: RESUMO DA MEDIÇÃO
A32: VALOR BRUTO DA MEDIÇÃO ( A ) | C32: ( + ) | D32: =D18 -> 0
A33: VALOR ADICIONAL (B) | C33: ( + ) | D33: =F28 -> 0
A34: VALOR A DESCONTAR (C) | C34: ( - )
A35: VALOR PARA EMISSÃO DA NOTA FISCAL | C35: ( = ) | D35: =SUM(D18,F26) -> 0
A36: VALOR PARA EMISSÃO DA NOTA DE DÉBITO | C36: ( = ) | D36: =SUM(F22:F25) -> 0
A37: VALOR A RECEBER | C37: ( = ) | D37: =(D18+F28)-D34 -> 0
A39: VALOR A RECEBER POR ESTA MEDIÇÃO: | D39: =D37 -> 0
A42: INFORMAÇÕES ADICIONAIS: * O SOMATÓRIO DA ALIMENTAÇÃO DEVERÁ ESTAR DE ACORDO COM A QUANTIDADE DE DIAS DA PRESTAÇÃO DE SERVIÇOS, SENDO DESCONSIDERADOS OS DIAS EM QUE A ALIMENTAÇÃO CONSUMIDA FOR FORNECIDA PELO GRUPO SCALLE.
C43: Observação: Assinaturas obrigatórias para liberação da medição
A45: ESTANDO DE ACORDO, ASSINAM AS PARTES ABAIXO IDENTIFICADAS:
B47: (GESTOR DE CT/ LÍDER DE CT/ GERÊNCIA/ DIRETORIA) | D47: CONTRATADO

Sheet FOR.CTR.013_REV02
A1: NOTA DE DÉBITO | D1: ='FOR.CTR.004_REV02'!D10 -> 0 | S1: 0
D4: ENDEREÇO | O4: CEP
D5: MUNICÍPIO | K5: UF | N5: CNPJ | O5: ='FOR.CTR.004_REV02'!D9 -> 0
A8: NOTA DE DÉBITO Nº | G8: VALOR | M8: DATA DA EMISSÃO
G9: ='FOR.CTR.004_REV02'!F28 -> 0
A13: NATUREZA DA OPERAÇÃO: ADIANTAMENTO/ RESTITUIÇÃO DE ALIMENTAÇÃO/TRANSPORTE/COMBUSTÍVEL | N13: CONTRATO Nº
N14: ='FOR.CTR.004_REV02'!B10 -> 0
A18: DADOS DO CREDOR:
A19: RAZÃO SOCIAL / NOME | E19: SCALLE CONSTRUCOES, REFORMAS E INSTALACOES LTDA
A20: ENDEREÇO | C20: RUA JOFRE SODRÉ, Nº 15 | M20: BAIRRO | O20: BARBUDA
A21: MUNICÍPIO | C21: MAGÉ | I21: UF | J21: RJ | M21: CEP | O21: 25.900-835
A22: CNPJ/CPF | C22: 19.024.253/0001-23 | I22: I.M. | J22: 1002191 | M22: I. ESTAD. | O22: 86998270
A25: ITEM | C25: DESCRIÇÃO | P25: VALOR TOTAL
A26: 1 | C26: ='FOR.CTR.004_REV02'!B22 -> RESTITUIÇÃO ALIMENTAÇÃO | P26: ='FOR.CTR.004_REV02'!F22 -> 0
A27: 2 | C27: ='FOR.CTR.004_REV02'!B23 -> RESTITUIÇÃO TRANSPORTE / COMBUSTÍVEL | P27: ='FOR.CTR.004_REV02'!F23 -> 0
A28: 3 | C28: ='FOR.CTR.004_REV02'!B24 -> ANTECIPAÇÃO ALIMENTAÇÃO | P28: ='FOR.CTR.004_REV02'!F24 -> 0
A29: 4 | C29: ='FOR.CTR.004_REV02'!B25 -> ANTECIPAÇÃO TRANSPORTE / COMBUSTÍVEL | P29: ='FOR.CTR.004_REV02'!F25 -> 0
A30: 5
A31: TOTAL | P31: =SUM(P26:R30) -> 0
A35: OBSERVAÇÃO: Operação não sujeita ao ISSQN, bem como à emissão de nota fiscal por se tratar de instrumento de recibo referente à restituição do material de responsabilidade da CONTRATANTE em referência ao instrumento firmado em epígrafe.
A41: Por este instrumento damos quitação à Alimentação/Transporte/Combustível fornecidos em referência à presente NOTA DE DÉBITO.
A47: Em ______/______/________ Assinatura: __________________________________________________
A48: FOR.CTR.013 _REV02 - Nota de Débito

Sheet Planilha2
B2: 45292 | D2: VALOR ADICIONAL - REAJUSTE CONTRATUAL | E2: 1
B3: 45323 | D3: VALOR A DESCONTAR - REAJUSTE CONTRATUAL | E3: -1
B4: 45352 | D4: MULTA/AVARIA | E4: -1
B5: 45383
B6: 45413 | E6: índice
B7: 45444 | E7: =IF('FOR.CTR.004_REV02'!B16=Planilha2!D2,Planilha2!E2,IF('FOR.CTR.004_REV02'!B16="",Planilha2!E2,Planilha2!E3)) -> 1
B8: 45474 | E8: =IF('FOR.CTR.004_REV02'!B17=Planilha2!D2,Planilha2!E2,IF('FOR.CTR.004_REV02'!B17="",Planilha2!E2,Planilha2!E3)) -> 1
B9: 45505
B10: 45536
B11: 45566
B12: 45597
B13: 45627
